BEGIN:VCALENDAR
VERSION:2.0
PRODID:-//OM.EN - ECPv6.15.20//NONSGML v1.0//EN
CALSCALE:GREGORIAN
METHOD:PUBLISH
X-WR-CALNAME:OM.EN
X-ORIGINAL-URL:https://www.omen.it
X-WR-CALDESC:Eventi per OM.EN
REFRESH-INTERVAL;VALUE=DURATION:PT1H
X-Robots-Tag:noindex
X-PUBLISHED-TTL:PT1H
BEGIN:VTIMEZONE
TZID:UTC
BEGIN:STANDARD
TZOFFSETFROM:+0000
TZOFFSETTO:+0000
TZNAME:UTC
DTSTART:20250101T000000
END:STANDARD
END:VTIMEZONE
BEGIN:VEVENT
DTSTART;TZID=UTC:20260527T090000
DTEND;TZID=UTC:20260527T130000
DTSTAMP:20260421T041459
CREATED:20260415T152747Z
LAST-MODIFIED:20260415T152747Z
UID:10000033-1779872400-1779886800@www.omen.it
SUMMARY:Corso di aggiornamento sicurezza per preposti (6 ore)
DESCRIPTION:Corso di Aggiornamento Sicurezza per Preposti \nDurata\n6 ore\n\nRiferimenti normativi\nD.Lgs. n. 81/08 (art. 37\, comma 2) e Accordo Stato Regioni del 17/04/2025 \nDescrizione\nIl corso di aggiornamento per preposti è finalizzato al consolidamento e all’aggiornamento delle competenze previste dall’art. 19 del D.Lgs. 81/2008\, con particolare riferimento alle responsabilità connesse al ruolo di vigilanza e controllo. Il percorso formativo approfondisce l’evoluzione normativa\, i principali rischi per la salute e sicurezza nei contesti lavorativi\, le misure di prevenzione e protezione\, nonché le tecniche di comunicazione efficace e le funzioni operative del preposto. Il corso è valido ai fini dell’assolvimento degli obblighi di aggiornamento previsti dalla normativa vigente\, inclusi quelli di cui all’art. 97\, comma 3-ter\, del D.Lgs. 81/2008. \nModalità di frequenza\n– Videoconferenza sincrona\n– Aula in Presenza \nDestinatari\nIl corso è rivolto ai Preposti di aziende appartenenti a tutti i macrosettori ATECO\, a prescindere dal livello di rischio (basso\, medio o alto). \nContenuti minimi\nIl corso di aggiornamento approfondisce il ruolo e le responsabilità del Preposto\, con particolare attenzione agli aggiornamenti normativi e operativi.\nFornisce indicazioni sulla corretta gestione dei rischi lavorativi\, sull’uso in sicurezza delle attrezzature di lavoro e sulle modalità di vigilanza delle attività.\nIl percorso rafforza la cultura della sicurezza attraverso una comunicazione efficace e comportamenti consapevoli\, analizzando il sistema di prevenzione aziendale e i relativi obblighi.\nIl corso inoltre prevede con un aggiornamento sulla gestione delle emergenze\, incluse le procedure di antincendio e primo soccorso. \nValidità attestato\nÈ necessario un rinnovo biennale dell’attestato. \nIndicazioni per la frequenza\n \nPosti disponibili: massimo di 30 partecipanti per edizione del corso.\nPartecipazione in videoconferenza: ogni partecipante deve collegarsi con PC o tablet ad uso esclusivo\, dotato di connessione internet\, microfono\, uscita audio e webcam funzionante.\nNon sono ammessi più partecipanti collegati dallo stesso dispositivo. \nAttestato: al termine del corso\, previo superamento del test finale composto da almeno 30 domande a risposta multipla per il corso ex novo e di 10 domande per il corso di aggiornamento (superato con il 70% di risposte corrette)\, verrà rilasciato l’attestato di frequenza con verifica dell’apprendimento nominativo per ciascun partecipante. Ai sensi dell’Accordo Stato Regioni del 17/04/2025\, l’attestato ha validità su tutto il territorio nazionale.\nInoltre\, al termine del corso ogni partecipante dovrà compilare il questionario di gradimento. \nIl corso è tenuto in lingua italiana\, è necessaria la comprensione della lingua sia scritta che orale.\nPer i lavoratori stranieri che non possiedono una buona padronanza della lingua italiana è previsto un test di comprensione il cui mancato superamento impedisce l’accesso al corso. \n 
URL:https://www.omen.it/formazione-aziendale/corso-di-aggiornamento-sicurezza-per-preposti-6-ore/2026-05-27/
LOCATION:Polo formativo OM.EN\, Via Alfredo Veroni\, 37\, Parma\, 43121\, Italy
CATEGORIES:Sicurezza nei luoghi di lavoro
ATTACH;FMTTYPE=image/jpeg:https://www.omen.it/wp-content/uploads/2026/04/corso-preposti.jpg
ORGANIZER;CN="OM.EN Srl":MAILTO:info@euroomen.it
END:VEVENT
BEGIN:VEVENT
DTSTART;TZID=UTC:20260617T090000
DTEND;TZID=UTC:20260617T130000
DTSTAMP:20260421T041459
CREATED:20260415T152747Z
LAST-MODIFIED:20260415T152747Z
UID:10000034-1781686800-1781701200@www.omen.it
SUMMARY:Corso di aggiornamento sicurezza per preposti (6 ore)
DESCRIPTION:Corso di Aggiornamento Sicurezza per Preposti \nDurata\n6 ore\n\nRiferimenti normativi\nD.Lgs. n. 81/08 (art. 37\, comma 2) e Accordo Stato Regioni del 17/04/2025 \nDescrizione\nIl corso di aggiornamento per preposti è finalizzato al consolidamento e all’aggiornamento delle competenze previste dall’art. 19 del D.Lgs. 81/2008\, con particolare riferimento alle responsabilità connesse al ruolo di vigilanza e controllo. Il percorso formativo approfondisce l’evoluzione normativa\, i principali rischi per la salute e sicurezza nei contesti lavorativi\, le misure di prevenzione e protezione\, nonché le tecniche di comunicazione efficace e le funzioni operative del preposto. Il corso è valido ai fini dell’assolvimento degli obblighi di aggiornamento previsti dalla normativa vigente\, inclusi quelli di cui all’art. 97\, comma 3-ter\, del D.Lgs. 81/2008. \nModalità di frequenza\n– Videoconferenza sincrona\n– Aula in Presenza \nDestinatari\nIl corso è rivolto ai Preposti di aziende appartenenti a tutti i macrosettori ATECO\, a prescindere dal livello di rischio (basso\, medio o alto). \nContenuti minimi\nIl corso di aggiornamento approfondisce il ruolo e le responsabilità del Preposto\, con particolare attenzione agli aggiornamenti normativi e operativi.\nFornisce indicazioni sulla corretta gestione dei rischi lavorativi\, sull’uso in sicurezza delle attrezzature di lavoro e sulle modalità di vigilanza delle attività.\nIl percorso rafforza la cultura della sicurezza attraverso una comunicazione efficace e comportamenti consapevoli\, analizzando il sistema di prevenzione aziendale e i relativi obblighi.\nIl corso inoltre prevede con un aggiornamento sulla gestione delle emergenze\, incluse le procedure di antincendio e primo soccorso. \nValidità attestato\nÈ necessario un rinnovo biennale dell’attestato. \nIndicazioni per la frequenza\n \nPosti disponibili: massimo di 30 partecipanti per edizione del corso.\nPartecipazione in videoconferenza: ogni partecipante deve collegarsi con PC o tablet ad uso esclusivo\, dotato di connessione internet\, microfono\, uscita audio e webcam funzionante.\nNon sono ammessi più partecipanti collegati dallo stesso dispositivo. \nAttestato: al termine del corso\, previo superamento del test finale composto da almeno 30 domande a risposta multipla per il corso ex novo e di 10 domande per il corso di aggiornamento (superato con il 70% di risposte corrette)\, verrà rilasciato l’attestato di frequenza con verifica dell’apprendimento nominativo per ciascun partecipante. Ai sensi dell’Accordo Stato Regioni del 17/04/2025\, l’attestato ha validità su tutto il territorio nazionale.\nInoltre\, al termine del corso ogni partecipante dovrà compilare il questionario di gradimento. \nIl corso è tenuto in lingua italiana\, è necessaria la comprensione della lingua sia scritta che orale.\nPer i lavoratori stranieri che non possiedono una buona padronanza della lingua italiana è previsto un test di comprensione il cui mancato superamento impedisce l’accesso al corso. \n 
URL:https://www.omen.it/formazione-aziendale/corso-di-aggiornamento-sicurezza-per-preposti-6-ore/2026-06-17/
LOCATION:Polo formativo OM.EN\, Via Alfredo Veroni\, 37\, Parma\, 43121\, Italy
CATEGORIES:Sicurezza nei luoghi di lavoro
ATTACH;FMTTYPE=image/jpeg:https://www.omen.it/wp-content/uploads/2026/04/corso-preposti.jpg
ORGANIZER;CN="OM.EN Srl":MAILTO:info@euroomen.it
END:VEVENT
BEGIN:VEVENT
DTSTART;TZID=UTC:20260723T090000
DTEND;TZID=UTC:20260723T130000
DTSTAMP:20260421T041459
CREATED:20260415T152747Z
LAST-MODIFIED:20260415T152747Z
UID:10000035-1784797200-1784811600@www.omen.it
SUMMARY:Corso di aggiornamento sicurezza per preposti (6 ore)
DESCRIPTION:Corso di Aggiornamento Sicurezza per Preposti \nDurata\n6 ore\n\nRiferimenti normativi\nD.Lgs. n. 81/08 (art. 37\, comma 2) e Accordo Stato Regioni del 17/04/2025 \nDescrizione\nIl corso di aggiornamento per preposti è finalizzato al consolidamento e all’aggiornamento delle competenze previste dall’art. 19 del D.Lgs. 81/2008\, con particolare riferimento alle responsabilità connesse al ruolo di vigilanza e controllo. Il percorso formativo approfondisce l’evoluzione normativa\, i principali rischi per la salute e sicurezza nei contesti lavorativi\, le misure di prevenzione e protezione\, nonché le tecniche di comunicazione efficace e le funzioni operative del preposto. Il corso è valido ai fini dell’assolvimento degli obblighi di aggiornamento previsti dalla normativa vigente\, inclusi quelli di cui all’art. 97\, comma 3-ter\, del D.Lgs. 81/2008. \nModalità di frequenza\n– Videoconferenza sincrona\n– Aula in Presenza \nDestinatari\nIl corso è rivolto ai Preposti di aziende appartenenti a tutti i macrosettori ATECO\, a prescindere dal livello di rischio (basso\, medio o alto). \nContenuti minimi\nIl corso di aggiornamento approfondisce il ruolo e le responsabilità del Preposto\, con particolare attenzione agli aggiornamenti normativi e operativi.\nFornisce indicazioni sulla corretta gestione dei rischi lavorativi\, sull’uso in sicurezza delle attrezzature di lavoro e sulle modalità di vigilanza delle attività.\nIl percorso rafforza la cultura della sicurezza attraverso una comunicazione efficace e comportamenti consapevoli\, analizzando il sistema di prevenzione aziendale e i relativi obblighi.\nIl corso inoltre prevede con un aggiornamento sulla gestione delle emergenze\, incluse le procedure di antincendio e primo soccorso. \nValidità attestato\nÈ necessario un rinnovo biennale dell’attestato. \nIndicazioni per la frequenza\n \nPosti disponibili: massimo di 30 partecipanti per edizione del corso.\nPartecipazione in videoconferenza: ogni partecipante deve collegarsi con PC o tablet ad uso esclusivo\, dotato di connessione internet\, microfono\, uscita audio e webcam funzionante.\nNon sono ammessi più partecipanti collegati dallo stesso dispositivo. \nAttestato: al termine del corso\, previo superamento del test finale composto da almeno 30 domande a risposta multipla per il corso ex novo e di 10 domande per il corso di aggiornamento (superato con il 70% di risposte corrette)\, verrà rilasciato l’attestato di frequenza con verifica dell’apprendimento nominativo per ciascun partecipante. Ai sensi dell’Accordo Stato Regioni del 17/04/2025\, l’attestato ha validità su tutto il territorio nazionale.\nInoltre\, al termine del corso ogni partecipante dovrà compilare il questionario di gradimento. \nIl corso è tenuto in lingua italiana\, è necessaria la comprensione della lingua sia scritta che orale.\nPer i lavoratori stranieri che non possiedono una buona padronanza della lingua italiana è previsto un test di comprensione il cui mancato superamento impedisce l’accesso al corso. \n 
URL:https://www.omen.it/formazione-aziendale/corso-di-aggiornamento-sicurezza-per-preposti-6-ore/2026-07-23/
LOCATION:Polo formativo OM.EN\, Via Alfredo Veroni\, 37\, Parma\, 43121\, Italy
CATEGORIES:Sicurezza nei luoghi di lavoro
ATTACH;FMTTYPE=image/jpeg:https://www.omen.it/wp-content/uploads/2026/04/corso-preposti.jpg
ORGANIZER;CN="OM.EN Srl":MAILTO:info@euroomen.it
END:VEVENT
END:VCALENDAR